Package: metaCCA Version: 1.38.0 Command: /Library/Frameworks/R.framework/Resources/bin/R CMD build --keep-empty-dirs --no-resave-data metaCCA StartedAt: 2025-11-20 21:25:47 -0500 (Thu, 20 Nov 2025) EndedAt: 2025-11-20 21:26:08 -0500 (Thu, 20 Nov 2025) EllapsedTime: 20.8 seconds RetCode: 0 Status: OK PackageFile: metaCCA_1.38.0.tar.gz PackageFileSize: 923.2 KiB