Package: metaCCA Version: 1.36.0 Command: /Library/Frameworks/R.framework/Resources/bin/R CMD check --install=check:metaCCA.install-out.txt --library=/Library/Frameworks/R.framework/Resources/library --no-vignettes --timings metaCCA_1.36.0.tar.gz StartedAt: 2025-04-21 21:45:03 -0400 (Mon, 21 Apr 2025) EndedAt: 2025-04-21 21:45:32 -0400 (Mon, 21 Apr 2025) EllapsedTime: 29.8 seconds RetCode: 0 Status: WARNINGS CheckDir: metaCCA.Rcheck Warnings: 1