Package: memes Version: 1.17.2 Command: /home/biocbuild/R/R/bin/R CMD INSTALL memes StartedAt: 2025-10-23 20:44:48 -0000 (Thu, 23 Oct 2025) EndedAt: 2025-10-23 20:45:08 -0000 (Thu, 23 Oct 2025) EllapsedTime: 19.3 seconds RetCode: 0 Status: OK