Package: memes Version: 1.17.2 Command: /home/biocbuild/R/R/bin/R CMD build --keep-empty-dirs --no-resave-data memes StartedAt: 2025-10-21 01:01:26 -0000 (Tue, 21 Oct 2025) EndedAt: 2025-10-21 01:02:38 -0000 (Tue, 21 Oct 2025) EllapsedTime: 72.0 seconds RetCode: 0 Status: OK PackageFile: memes_1.17.2.tar.gz PackageFileSize: 1023 KiB