Package: memes Version: 1.17.2 Command: F:\biocbuild\bbs-3.22-bioc\R\bin\R.exe CMD check --no-multiarch --install=check:memes.install-out.txt --library=F:\biocbuild\bbs-3.22-bioc\R\library --no-vignettes --timings memes_1.17.2.tar.gz StartedAt: 2025-08-15 04:53:15 -0400 (Fri, 15 Aug 2025) EndedAt: 2025-08-15 04:55:43 -0400 (Fri, 15 Aug 2025) EllapsedTime: 148.0 seconds RetCode: 0 Status: WARNINGS CheckDir: memes.Rcheck Warnings: 1