Package: memes Version: 1.16.0 Command: /Library/Frameworks/R.framework/Resources/bin/R CMD check --install=check:memes.install-out.txt --library=/Library/Frameworks/R.framework/Resources/library --no-vignettes --timings memes_1.16.0.tar.gz StartedAt: 2025-04-20 21:44:13 -0400 (Sun, 20 Apr 2025) EndedAt: 2025-04-20 21:46:59 -0400 (Sun, 20 Apr 2025) EllapsedTime: 166.1 seconds RetCode: 0 Status: WARNINGS CheckDir: memes.Rcheck Warnings: 1