Package: memes Version: 1.16.0 Command: /Library/Frameworks/R.framework/Resources/bin/R CMD build --keep-empty-dirs --no-resave-data memes StartedAt: 2025-04-21 17:23:13 -0400 (Mon, 21 Apr 2025) EndedAt: 2025-04-21 17:24:36 -0400 (Mon, 21 Apr 2025) EllapsedTime: 82.5 seconds RetCode: 1 Status: ERROR PackageFile: None PackageFileSize: NA