Package: megadepth Version: 1.18.0 Command: E:\biocbuild\bbs-3.21-bioc\R\bin\R.exe CMD check --no-multiarch --install=check:megadepth.install-out.txt --library=E:\biocbuild\bbs-3.21-bioc\R\library --no-vignettes --timings megadepth_1.18.0.tar.gz StartedAt: 2025-08-15 03:51:29 -0400 (Fri, 15 Aug 2025) EndedAt: 2025-08-15 03:53:31 -0400 (Fri, 15 Aug 2025) EllapsedTime: 121.6 seconds RetCode: 0 Status: OK CheckDir: megadepth.Rcheck Warnings: 0