Package: megadepth Version: 1.18.0 Command: rm -rf megadepth.buildbin-libdir && mkdir megadepth.buildbin-libdir && E:\biocbuild\bbs-3.21-bioc\R\bin\R.exe CMD INSTALL --build --library=megadepth.buildbin-libdir megadepth_1.18.0.tar.gz StartedAt: 2025-08-15 09:39:08 -0400 (Fri, 15 Aug 2025) EndedAt: 2025-08-15 09:39:29 -0400 (Fri, 15 Aug 2025) EllapsedTime: 21.7 seconds RetCode: 0 Status: OK PackageFile: megadepth_1.18.0.zip PackageFileSize: 493.3 KiB