Package: megadepth Version: 1.18.0 Command: /Library/Frameworks/R.framework/Resources/bin/R CMD build --keep-empty-dirs --no-resave-data megadepth StartedAt: 2025-10-14 03:39:23 -0400 (Tue, 14 Oct 2025) EndedAt: 2025-10-14 03:39:46 -0400 (Tue, 14 Oct 2025) EllapsedTime: 22.8 seconds RetCode: 1 Status: ERROR PackageFile: None PackageFileSize: NA