Package: mdqc Version: 1.72.0 Command: /home/biocbuild/bbs-3.22-bioc/R/bin/R CMD check --install=check:mdqc.install-out.txt --library=/home/biocbuild/bbs-3.22-bioc/R/site-library --timings mdqc_1.72.0.tar.gz StartedAt: 2025-11-05 01:08:52 -0500 (Wed, 05 Nov 2025) EndedAt: 2025-11-05 01:09:15 -0500 (Wed, 05 Nov 2025) EllapsedTime: 23.0 seconds RetCode: 0 Status: OK CheckDir: mdqc.Rcheck Warnings: 0