Package: mdqc Version: 1.70.0 Command: /Library/Frameworks/R.framework/Resources/bin/R CMD check --install=check:mdqc.install-out.txt --library=/Library/Frameworks/R.framework/Resources/library --no-vignettes --timings mdqc_1.70.0.tar.gz StartedAt: 2025-09-26 05:52:47 -0400 (Fri, 26 Sep 2025) EndedAt: 2025-09-26 05:53:32 -0400 (Fri, 26 Sep 2025) EllapsedTime: 45.3 seconds RetCode: 0 Status: OK CheckDir: mdqc.Rcheck Warnings: 0