Package: mdqc Version: 1.70.0 Command: rm -rf mdqc.buildbin-libdir && mkdir mdqc.buildbin-libdir && /Users/biocbuild/BBS/utils/build-universal.sh mdqc_1.70.0.tar.gz /Library/Frameworks/R.framework/Resources/bin/R mdqc.buildbin-libdir StartedAt: 2025-09-26 14:48:29 -0400 (Fri, 26 Sep 2025) EndedAt: 2025-09-26 14:48:36 -0400 (Fri, 26 Sep 2025) EllapsedTime: 7.6 seconds RetCode: 0 Status: OK PackageFile: mdqc_1.70.0.tgz PackageFileSize: 296.6 KiB