Package: mdp Version: 1.30.0 Command: /home/biocbuild/R/R/bin/R CMD INSTALL mdp StartedAt: 2025-11-17 21:11:44 -0000 (Mon, 17 Nov 2025) EndedAt: 2025-11-17 21:12:33 -0000 (Mon, 17 Nov 2025) EllapsedTime: 48.6 seconds RetCode: 0 Status: OK