Package: mdp Version: 1.30.0 Command: /home/biocbuild/R/R/bin/R CMD check --install=check:mdp.install-out.txt --library=/home/biocbuild/R/R/site-library --no-vignettes --timings mdp_1.30.0.tar.gz StartedAt: 2025-11-21 12:29:41 -0000 (Fri, 21 Nov 2025) EndedAt: 2025-11-21 12:30:59 -0000 (Fri, 21 Nov 2025) EllapsedTime: 78.1 seconds RetCode: 0 Status: OK CheckDir: mdp.Rcheck Warnings: 0