Package: mdp Version: 1.30.0 Command: /home/biocbuild/R/R/bin/R CMD build --keep-empty-dirs --no-resave-data mdp StartedAt: 2025-11-21 03:41:30 -0000 (Fri, 21 Nov 2025) EndedAt: 2025-11-21 03:42:03 -0000 (Fri, 21 Nov 2025) EllapsedTime: 33.0 seconds RetCode: 0 Status: OK PackageFile: mdp_1.30.0.tar.gz PackageFileSize: 4.17 MiB