Package: mdp Version: 1.28.0 Command: /home/biocbuild/R/R/bin/R CMD INSTALL mdp StartedAt: 2025-09-29 20:19:58 -0000 (Mon, 29 Sep 2025) EndedAt: 2025-09-29 20:20:32 -0000 (Mon, 29 Sep 2025) EllapsedTime: 33.8 seconds RetCode: 0 Status: OK