Package: mdp Version: 1.28.0 Command: /home/biocbuild/R/R/bin/R CMD check --install=check:mdp.install-out.txt --library=/home/biocbuild/R/R/site-library --no-vignettes --timings mdp_1.28.0.tar.gz StartedAt: 2025-09-30 11:22:15 -0000 (Tue, 30 Sep 2025) EndedAt: 2025-09-30 11:23:23 -0000 (Tue, 30 Sep 2025) EllapsedTime: 68.0 seconds RetCode: 0 Status: OK CheckDir: mdp.Rcheck Warnings: 0