Package: mdp Version: 1.28.0 Command: /home/biocbuild/R/R/bin/R CMD build --keep-empty-dirs --no-resave-data mdp StartedAt: 2025-09-30 02:54:13 -0000 (Tue, 30 Sep 2025) EndedAt: 2025-09-30 02:54:40 -0000 (Tue, 30 Sep 2025) EllapsedTime: 27.0 seconds RetCode: 0 Status: OK PackageFile: mdp_1.28.0.tar.gz PackageFileSize: 4.391 MiB