Package: mbkmeans Version: 1.23.0 Command: E:\biocbuild\bbs-3.21-bioc\R\bin\R.exe CMD check --no-multiarch --install=check:mbkmeans.install-out.txt --library=E:\biocbuild\bbs-3.21-bioc\R\library --no-vignettes --timings mbkmeans_1.23.0.tar.gz StartedAt: 2025-03-18 02:57:16 -0400 (Tue, 18 Mar 2025) EndedAt: 2025-03-18 03:03:57 -0400 (Tue, 18 Mar 2025) EllapsedTime: 400.6 seconds RetCode: 0 Status: OK CheckDir: mbkmeans.Rcheck Warnings: 0