Package: mbkmeans Version: 1.24.0 Command: chmod a+r mbkmeans -R && E:\biocbuild\bbs-3.21-bioc\R\bin\R.exe CMD build --keep-empty-dirs --no-resave-data mbkmeans StartedAt: 2025-08-14 20:12:07 -0400 (Thu, 14 Aug 2025) EndedAt: 2025-08-14 20:13:10 -0400 (Thu, 14 Aug 2025) EllapsedTime: 62.6 seconds RetCode: 1 Status: ERROR PackageFile: None PackageFileSize: NA