Package: mbkmeans Version: 1.24.0 Command: /home/biocbuild/bbs-3.21-bioc/R/bin/R CMD build --keep-empty-dirs --no-resave-data mbkmeans StartedAt: 2025-10-15 18:20:05 -0400 (Wed, 15 Oct 2025) EndedAt: 2025-10-15 18:21:41 -0400 (Wed, 15 Oct 2025) EllapsedTime: 96.1 seconds RetCode: 0 Status: OK PackageFile: mbkmeans_1.24.0.tar.gz PackageFileSize: 293.1 KiB