Package: mbkmeans Version: 1.24.0 Command: /Library/Frameworks/R.framework/Resources/bin/R CMD build --keep-empty-dirs --no-resave-data mbkmeans StartedAt: 2025-10-13 20:16:24 -0400 (Mon, 13 Oct 2025) EndedAt: 2025-10-13 20:19:25 -0400 (Mon, 13 Oct 2025) EllapsedTime: 180.2 seconds RetCode: 0 Status: OK PackageFile: mbkmeans_1.24.0.tar.gz PackageFileSize: 268.6 KiB