Package: mbkmeans Version: 1.24.0 Command: rm -rf mbkmeans.buildbin-libdir && mkdir mbkmeans.buildbin-libdir && /Users/biocbuild/BBS/utils/build-universal.sh mbkmeans_1.24.0.tar.gz /Library/Frameworks/R.framework/Resources/bin/R mbkmeans.buildbin-libdir StartedAt: 2025-10-14 13:56:10 -0400 (Tue, 14 Oct 2025) EndedAt: 2025-10-14 13:59:07 -0400 (Tue, 14 Oct 2025) EllapsedTime: 177.0 seconds RetCode: 0 Status: OK PackageFile: mbkmeans_1.24.0.tgz PackageFileSize: 445 KiB