Package: mbQTL Version: 1.8.0 Command: /Library/Frameworks/R.framework/Resources/bin/R CMD build --keep-empty-dirs --no-resave-data mbQTL StartedAt: 2025-04-21 16:50:23 -0400 (Mon, 21 Apr 2025) EndedAt: 2025-04-21 16:50:50 -0400 (Mon, 21 Apr 2025) EllapsedTime: 27.3 seconds RetCode: 0 Status: OK PackageFile: mbQTL_1.8.0.tar.gz PackageFileSize: 1.46 MiB