Package: mbQTL Version: 1.8.0 Command: rm -rf mbQTL.buildbin-libdir && mkdir mbQTL.buildbin-libdir && /Users/biocbuild/BBS/utils/build-universal.sh mbQTL_1.8.0.tar.gz /Library/Frameworks/R.framework/Resources/bin/R mbQTL.buildbin-libdir StartedAt: 2025-04-21 22:40:56 -0400 (Mon, 21 Apr 2025) EndedAt: 2025-04-21 22:41:02 -0400 (Mon, 21 Apr 2025) EllapsedTime: 5.1 seconds RetCode: 0 Status: OK PackageFile: mbQTL_1.8.0.tgz PackageFileSize: 1.511 MiB