Package: matter Version: 2.11.2 Command: /home/biocbuild/R/R/bin/R CMD check --install=check:matter.install-out.txt --library=/home/biocbuild/R/R/site-library --no-vignettes --timings matter_2.11.2.tar.gz StartedAt: 2025-10-17 10:41:58 -0000 (Fri, 17 Oct 2025) EndedAt: 2025-10-17 10:46:56 -0000 (Fri, 17 Oct 2025) EllapsedTime: 297.2 seconds RetCode: 0 Status: OK CheckDir: matter.Rcheck Warnings: 0