Package: matter Version: 2.12.0 Command: /home/biocbuild/bbs-3.22-bioc/R/bin/R CMD INSTALL matter StartedAt: 2025-11-06 15:11:17 -0500 (Thu, 06 Nov 2025) EndedAt: 2025-11-06 15:12:08 -0500 (Thu, 06 Nov 2025) EllapsedTime: 51.2 seconds RetCode: 0 Status: OK