Package: matter Version: 2.12.0 Command: /Library/Frameworks/R.framework/Resources/bin/R CMD build --keep-empty-dirs --no-resave-data matter StartedAt: 2025-11-06 16:53:49 -0500 (Thu, 06 Nov 2025) EndedAt: 2025-11-06 16:54:22 -0500 (Thu, 06 Nov 2025) EllapsedTime: 32.4 seconds RetCode: 0 Status: OK PackageFile: matter_2.12.0.tar.gz PackageFileSize: 2.817 MiB