Package: matter Version: 2.12.0 Command: rm -rf matter.buildbin-libdir && mkdir matter.buildbin-libdir && /Users/biocbuild/BBS/utils/build-universal.sh matter_2.12.0.tar.gz /Library/Frameworks/R.framework/Resources/bin/R matter.buildbin-libdir StartedAt: 2025-11-06 23:10:36 -0500 (Thu, 06 Nov 2025) EndedAt: 2025-11-06 23:10:51 -0500 (Thu, 06 Nov 2025) EllapsedTime: 15.3 seconds RetCode: 0 Status: OK PackageFile: matter_2.12.0.tgz PackageFileSize: 4.969 MiB