Package: matchBox Version: 1.50.0 Command: /Library/Frameworks/R.framework/Resources/bin/R CMD check --install=check:matchBox.install-out.txt --library=/Library/Frameworks/R.framework/Resources/library --no-vignettes --timings matchBox_1.50.0.tar.gz StartedAt: 2025-04-21 21:39:46 -0400 (Mon, 21 Apr 2025) EndedAt: 2025-04-21 21:40:15 -0400 (Mon, 21 Apr 2025) EllapsedTime: 29.0 seconds RetCode: 0 Status: OK CheckDir: matchBox.Rcheck Warnings: 0