Package: matchBox Version: 1.50.0 Command: /Library/Frameworks/R.framework/Resources/bin/R CMD build --keep-empty-dirs --no-resave-data matchBox StartedAt: 2025-04-21 17:21:13 -0400 (Mon, 21 Apr 2025) EndedAt: 2025-04-21 17:21:26 -0400 (Mon, 21 Apr 2025) EllapsedTime: 12.6 seconds RetCode: 0 Status: OK PackageFile: matchBox_1.50.0.tar.gz PackageFileSize: 605.4 KiB