Package: matchBox Version: 1.52.0 Command: /Library/Frameworks/R.framework/Resources/bin/R CMD build --keep-empty-dirs --no-resave-data matchBox StartedAt: 2025-10-30 16:53:36 -0400 (Thu, 30 Oct 2025) EndedAt: 2025-10-30 16:53:41 -0400 (Thu, 30 Oct 2025) EllapsedTime: 5.1 seconds RetCode: 0 Status: OK PackageFile: matchBox_1.52.0.tar.gz PackageFileSize: 605.2 KiB