Package: matchBox Version: 1.52.0 Command: rm -rf matchBox.buildbin-libdir && mkdir matchBox.buildbin-libdir && /Users/biocbuild/BBS/utils/build-universal.sh matchBox_1.52.0.tar.gz /Library/Frameworks/R.framework/Resources/bin/R matchBox.buildbin-libdir StartedAt: 2025-10-30 23:06:15 -0400 (Thu, 30 Oct 2025) EndedAt: 2025-10-30 23:06:17 -0400 (Thu, 30 Oct 2025) EllapsedTime: 2.1 seconds RetCode: 0 Status: OK PackageFile: matchBox_1.52.0.tgz PackageFileSize: 634.4 KiB