Package: mastR Version: 1.8.0 Command: /home/biocbuild/bbs-3.21-bioc/R/bin/R CMD check --install=check:mastR.install-out.txt --library=/home/biocbuild/bbs-3.21-bioc/R/site-library --timings mastR_1.8.0.tar.gz StartedAt: 2025-06-15 23:58:35 -0400 (Sun, 15 Jun 2025) EndedAt: 2025-06-16 00:10:03 -0400 (Mon, 16 Jun 2025) EllapsedTime: 687.9 seconds RetCode: 0 Status: OK CheckDir: mastR.Rcheck Warnings: 0