Package: martini Version: 1.30.0 Command: /home/biocbuild/R/R/bin/R CMD INSTALL martini StartedAt: 2025-11-17 21:19:38 -0000 (Mon, 17 Nov 2025) EndedAt: 2025-11-17 21:20:07 -0000 (Mon, 17 Nov 2025) EllapsedTime: 28.5 seconds RetCode: 0 Status: OK