Package: martini Version: 1.30.0 Command: /home/biocbuild/R/R/bin/R CMD build --keep-empty-dirs --no-resave-data martini StartedAt: 2025-11-18 02:47:58 -0000 (Tue, 18 Nov 2025) EndedAt: 2025-11-18 02:48:34 -0000 (Tue, 18 Nov 2025) EllapsedTime: 36.0 seconds RetCode: 0 Status: OK PackageFile: martini_1.30.0.tar.gz PackageFileSize: 2.918 MiB