Package: marr Version: 1.20.0 Command: /home/biocbuild/R/R/bin/R CMD INSTALL marr StartedAt: 2025-11-20 22:07:50 -0000 (Thu, 20 Nov 2025) EndedAt: 2025-11-20 22:08:35 -0000 (Thu, 20 Nov 2025) EllapsedTime: 45.0 seconds RetCode: 0 Status: OK