Package: marr Version: 1.20.0 Command: /home/biocbuild/R/R/bin/R CMD check --install=check:marr.install-out.txt --library=/home/biocbuild/R/R/site-library --no-vignettes --timings marr_1.20.0.tar.gz StartedAt: 2025-11-21 12:25:06 -0000 (Fri, 21 Nov 2025) EndedAt: 2025-11-21 12:29:27 -0000 (Fri, 21 Nov 2025) EllapsedTime: 261.3 seconds RetCode: 0 Status: OK CheckDir: marr.Rcheck Warnings: 0