Package: marr Version: 1.20.0 Command: /home/biocbuild/R/R/bin/R CMD build --keep-empty-dirs --no-resave-data marr StartedAt: 2025-11-21 03:35:43 -0000 (Fri, 21 Nov 2025) EndedAt: 2025-11-21 03:36:47 -0000 (Fri, 21 Nov 2025) EllapsedTime: 64.0 seconds RetCode: 0 Status: OK PackageFile: marr_1.20.0.tar.gz PackageFileSize: 652.7 KiB