Package: marr Version: 1.18.0 Command: /Library/Frameworks/R.framework/Resources/bin/R CMD INSTALL marr StartedAt: 2025-10-13 16:17:16 -0400 (Mon, 13 Oct 2025) EndedAt: 2025-10-13 16:17:51 -0400 (Mon, 13 Oct 2025) EllapsedTime: 34.6 seconds RetCode: 0 Status: OK