Package: markeR Version: 1.0.0 Command: /home/biocbuild/R/R/bin/R CMD INSTALL markeR StartedAt: 2025-11-10 21:20:51 -0000 (Mon, 10 Nov 2025) EndedAt: 2025-11-10 21:21:17 -0000 (Mon, 10 Nov 2025) EllapsedTime: 26.3 seconds RetCode: 0 Status: OK