Package: markeR Version: 1.0.0 Command: /home/biocbuild/bbs-3.22-bioc/R/bin/R CMD INSTALL markeR StartedAt: 2025-11-11 15:18:53 -0500 (Tue, 11 Nov 2025) EndedAt: 2025-11-11 15:19:11 -0500 (Tue, 11 Nov 2025) EllapsedTime: 18.1 seconds RetCode: 0 Status: OK