Package: markeR Version: 1.0.0 Command: /home/biocbuild/bbs-3.22-bioc/R/bin/R CMD check --install=check:markeR.install-out.txt --library=/home/biocbuild/bbs-3.22-bioc/R/site-library --timings markeR_1.0.0.tar.gz StartedAt: 2025-11-12 01:06:35 -0500 (Wed, 12 Nov 2025) EndedAt: 2025-11-12 01:15:55 -0500 (Wed, 12 Nov 2025) EllapsedTime: 559.6 seconds RetCode: 0 Status: OK CheckDir: markeR.Rcheck Warnings: 0