Package: markeR Version: 1.0.0 Command: /Library/Frameworks/R.framework/Resources/bin/R CMD check --install=check:markeR.install-out.txt --library=/Library/Frameworks/R.framework/Resources/library --no-vignettes --timings markeR_1.0.0.tar.gz StartedAt: 2025-11-03 22:13:58 -0500 (Mon, 03 Nov 2025) EndedAt: 2025-11-03 22:20:01 -0500 (Mon, 03 Nov 2025) EllapsedTime: 362.6 seconds RetCode: 0 Status: OK CheckDir: markeR.Rcheck Warnings: 0