Package: mariner Version: 1.8.1 Command: /home/biocbuild/bbs-3.21-bioc/R/bin/R CMD check --install=check:mariner.install-out.txt --library=/home/biocbuild/bbs-3.21-bioc/R/site-library --timings mariner_1.8.1.tar.gz StartedAt: 2025-10-16 00:39:53 -0400 (Thu, 16 Oct 2025) EndedAt: 2025-10-16 00:51:06 -0400 (Thu, 16 Oct 2025) EllapsedTime: 672.9 seconds RetCode: 0 Status: OK CheckDir: mariner.Rcheck Warnings: 0