Package: mariner Version: 1.8.1 Command: /Library/Frameworks/R.framework/Resources/bin/R CMD INSTALL mariner StartedAt: 2025-10-13 16:05:31 -0400 (Mon, 13 Oct 2025) EndedAt: 2025-10-13 16:07:01 -0400 (Mon, 13 Oct 2025) EllapsedTime: 90.0 seconds RetCode: 0 Status: OK