Package: mariner Version: 1.8.1 Command: /Library/Frameworks/R.framework/Resources/bin/R CMD check --install=check:mariner.install-out.txt --library=/Library/Frameworks/R.framework/Resources/library --no-vignettes --timings mariner_1.8.1.tar.gz StartedAt: 2025-10-14 05:58:52 -0400 (Tue, 14 Oct 2025) EndedAt: 2025-10-14 06:25:36 -0400 (Tue, 14 Oct 2025) EllapsedTime: 1603.7 seconds RetCode: 0 Status: OK CheckDir: mariner.Rcheck Warnings: 0