Package: magrene Version: 1.12.0 Command: /home/biocbuild/bbs-3.22-bioc/R/bin/R CMD INSTALL magrene StartedAt: 2025-11-09 15:04:17 -0500 (Sun, 09 Nov 2025) EndedAt: 2025-11-09 15:04:46 -0500 (Sun, 09 Nov 2025) EllapsedTime: 28.8 seconds RetCode: 0 Status: OK