Package: magpie Version: 1.10.0 Command: /home/biocbuild/bbs-3.22-bioc/R/bin/R CMD INSTALL magpie StartedAt: 2025-11-11 15:44:16 -0500 (Tue, 11 Nov 2025) EndedAt: 2025-11-11 15:44:55 -0500 (Tue, 11 Nov 2025) EllapsedTime: 38.7 seconds RetCode: 0 Status: OK